BEGIN:VCALENDAR
VERSION:2.0
PRODID:Events Booking
BEGIN:VEVENT
UID:69e9e29f9a039
SUMMARY:Представа / ЗВЕЗДАНИ ДЕЧАК 7+
DESCRIPTION:Представа / ЗВЕЗДАНИ ДЕЧАК 7+
LOCATION:Бранка Радичевића 1
DTSTART:20250222T180000Z
DTEND:20250222T200000Z
DTSTAMP:20240529T115855Z
ORGANIZER;CN=KulturaKG:MAILTO:urednik@kulturakg.rs
GEO:44.011374;20.911941
X-APPLE-STRUCTURED-LOCATION;VALUE=URI;X-ADDRESS=Бранка Радичев
 ића 1;X-APPLE-RADIUS=72;X-TITLE=Сцена Славица Слаја У
 рошевић - Дом омладине:44.011374;20.911941
END:VEVENT
END:VCALENDAR