BEGIN:VCALENDAR
VERSION:2.0
PRODID:Events Booking
BEGIN:VEVENT
UID:69e9e2db76cf0
SUMMARY:КИНОТЕКА УТОРКОМ
DESCRIPTION:Галерија Дома омладине
LOCATION:Kragujevac Branka Radičevića 1
DTSTART:20250909T210000Z
DTEND:20250910T010000Z
DTSTAMP:20250902T135439Z
ORGANIZER;CN=KulturaKG:MAILTO:urednik@kulturakg.rs
GEO:44.0114;20.9119
X-APPLE-STRUCTURED-LOCATION;VALUE=URI;X-ADDRESS=Kragujevac Branka Radičevi
 ća 1;X-APPLE-RADIUS=72;X-TITLE=Дом омладине:44.0114;20.9119
END:VEVENT
END:VCALENDAR